BEGIN:VCALENDAR
VERSION:2.0
PRODID:-//hacksw/handcal//NONSGML v1.0//EN
CALSCALE:GREGORIAN
BEGIN:VEVENT
DTSTART:20260322T170000Z
DTEND:20260322T200000Z
SUMMARY:GOSPEL POUR 100 VOIX
DESCRIPTION:Nous travaillons activement à la reprogrammation du spectacle à Montpellier et nous reviendrons vers vous dès que possible pour vous annoncer la nouvelle date. 
 Nous nous excusons de la gêne occasionnée et nous vous remercions de votre compréhension.
LOCATION:Esplanade Charles De Gaulle 34000 Montpellier, 34000, MONTPELLIER, France
URL:https://www.zenithsud-montpellier.com/fr/agenda/concert-spectacles-corum/gospel-pour-100-voix-2026
STATUS:CANCELLED
GEO:43.614226;3.882576
END:VEVENT
END:VCALENDAR